BEGIN:VCALENDAR
VERSION:2.0
PRODID:-//Energy Storage Association - ECPv5.9.1//NONSGML v1.0//EN
CALSCALE:GREGORIAN
METHOD:PUBLISH
X-WR-CALNAME:Energy Storage Association
X-ORIGINAL-URL:http://energystorageassociationarchive.org
X-WR-CALDESC:Events for Energy Storage Association
BEGIN:VTIMEZONE
TZID:America/New_York
BEGIN:DAYLIGHT
TZOFFSETFROM:-0500
TZOFFSETTO:-0400
TZNAME:EDT
DTSTART:20200308T070000
END:DAYLIGHT
BEGIN:STANDARD
TZOFFSETFROM:-0400
TZOFFSETTO:-0500
TZNAME:EST
DTSTART:20201101T060000
END:STANDARD
END:VTIMEZONE
BEGIN:VEVENT
DTSTART;VALUE=DATE:20201006
DTEND;VALUE=DATE:20201016
DTSTAMP:20260425T191454
CREATED:20200923T175318Z
LAST-MODIFIED:20200923T175318Z
UID:8841-1601942400-1602806399@energystorageassociationarchive.org
SUMMARY:GridFWD 2020
DESCRIPTION:GridFWD brings together leading insights from a wide range of stakeholders to address the challenges and opportunities facing the energy industry. This year the event will explore the many changes\, perspectives and solutions that regional stakeholders are pursing to support not just reliable\, affordable electric service\, but also the welfare of customers\, co-workers and communities. \nESA CEO Kelly Speakes-Backman will be speaking at this event on October 7.
URL:http://energystorageassociationarchive.org/event/gridfwd-2020/
CATEGORIES:ESA Speaking Engagement
END:VEVENT
BEGIN:VEVENT
DTSTART;VALUE=DATE:20201012
DTEND;VALUE=DATE:20201015
DTSTAMP:20260425T191454
CREATED:20200916T185109Z
LAST-MODIFIED:20200916T185109Z
UID:8649-1602460800-1602719999@energystorageassociationarchive.org
SUMMARY:Suncast Puerto Rico
DESCRIPTION:Suncast Puerto Rico will provide the solar and storage industry an immersive experience\, highlighting the latest insights and trends impacting the Puerto Rican market as it works toward the goal of 100% Renewable Energy. \nESA’s CEO Kelly Speakes-Backman will be speaking at the event. Click here for more information.
URL:http://energystorageassociationarchive.org/event/suncast-puerto-rico/
CATEGORIES:ESA Speaking Engagement,Energy Storage Industry Event
END:VEVENT
BEGIN:VEVENT
DTSTART;VALUE=DATE:20201012
DTEND;VALUE=DATE:20201014
DTSTAMP:20260425T191454
CREATED:20200929T212824Z
LAST-MODIFIED:20201006T174825Z
UID:9125-1602460800-1602633599@energystorageassociationarchive.org
SUMMARY:MnSEIA Gateway to Solar Conference
DESCRIPTION:The Minnesota Solar Energy Industries Association (MnSEIA) is excited to announce the 7th annual MnSEIA Gateway to Solar Conference\, taking place virtually October 12-13th. \nThe Gateway Conference is a two-day working event that brings together solar practitioners from across the country. Every year\, installers\, financiers\, engineers\, developers\, distributors\, manufacturers\, non-profits\, job trainers\, trade unions\, utilities\, and government agencies gather to connect\, make business deals\, and learn about the future of Minnesota solar. \nESA’s VP of Policy\, Jason Burwen\, will be speaking during the panel Starting the Storage Boom in Minnesota: \nStarting the Storage Boom in Minnesota\nOctober 13\, 10:15 AM – 11:15 AM CT\nModerator: Rao Konidena\, Rakon Energy\nPanelists:  \n\nJenise Granvold\, Sonnen\nAndrew Larson\, Werner Electric\nJason Burwen\, U.S. Energy Storage Association (ESA)\nJing Yu\, Fortress Power
URL:http://energystorageassociationarchive.org/event/mnseia-gateway-to-solar-conference/
CATEGORIES:Energy Storage Industry Event,ESA Speaking Engagement
END:VEVENT
BEGIN:VEVENT
DTSTART;TZID=America/New_York:20201013T113000
DTEND;TZID=America/New_York:20201014T180000
DTSTAMP:20260425T191454
CREATED:20200916T033034Z
LAST-MODIFIED:20200916T033057Z
UID:8604-1602588600-1602698400@energystorageassociationarchive.org
SUMMARY:2020 EBA Fall Conference - Commit\, Engage\, Ignite
DESCRIPTION:The Energy Bar Association’s 2020 Virtual Fall Conference – Commit\, Connect\, Ignite\, includes two half-days of education\, networking and access to the new Solution Center.  Discussions will focused on the legal issues related to all aspects of energy law. Attendees will include attorneys\, non-attorney professionals\, and students active in all areas of energy law\, including antitrust\, international energy transactions\, legislation and regulatory reform\, electric utility regulation\, alternative dispute resolution\, finance and transactions\, and environment and public lands at federal\, state\, and international levels. We look forward to welcoming more than 600 attendees and providing an exceptional experience with MCLE credit approval. \nESA’s VP of Policy Jason Burwen will speak during the General Session on October 14: \nGetting to Zero: Are No Carbon Emissions Realistic?\nOctober 14\, 2020 11:30am-12:45pm EDT \nView the draft agenda here.
URL:http://energystorageassociationarchive.org/event/2020-eba-fall-conference-commit-engage-ignite/
CATEGORIES:Energy Storage Industry Event,ESA Speaking Engagement
END:VEVENT
END:VCALENDAR