BEGIN:VCALENDAR
VERSION:2.0
PRODID:-//Energy Storage Association - ECPv5.9.1//NONSGML v1.0//EN
CALSCALE:GREGORIAN
METHOD:PUBLISH
X-WR-CALNAME:Energy Storage Association
X-ORIGINAL-URL:http://energystorageassociationarchive.org
X-WR-CALDESC:Events for Energy Storage Association
BEGIN:VTIMEZONE
TZID:America/New_York
BEGIN:DAYLIGHT
TZOFFSETFROM:-0500
TZOFFSETTO:-0400
TZNAME:EDT
DTSTART:20210314T070000
END:DAYLIGHT
BEGIN:STANDARD
TZOFFSETFROM:-0400
TZOFFSETTO:-0500
TZNAME:EST
DTSTART:20211107T060000
END:STANDARD
END:VTIMEZONE
BEGIN:VEVENT
DTSTART;VALUE=DATE:20210125
DTEND;VALUE=DATE:20210127
DTSTAMP:20260425T135801
CREATED:20201106T222501Z
LAST-MODIFIED:20201106T222501Z
UID:9845-1611532800-1611705599@energystorageassociationarchive.org
SUMMARY:2021 Renewable Energy Law Institute
DESCRIPTION:Join leading attorneys and industry experts in wind\, solar\, and storage for two days of the latest developments affecting renewable energy in Texas and nationwide. The 16th Annual Renewable Energy Law Institute blends law\, economics\, technology\, finance\, tax\, and regulatory policy. The conference aims to inform industry participants\, legal and financial advisers\, as well as key legislative and regulatory policymakers and staff.\nThis years highlights include: \n\nReview and update of key state legislative and regulatory changes impacting the renewable energy markets.\nLatest updates and developments from ERCOT and PUC.\nInsight into federal rules and regulations including FERC\, and executive orders\n\nESA VP of Policy Jason Burwen will speak on the panel “The FERC Storage Rule”. Click here for more information and to register.
URL:http://energystorageassociationarchive.org/event/2021-renewable-energy-law-institute/
CATEGORIES:ESA Speaking Engagement
END:VEVENT
END:VCALENDAR