BEGIN:VCALENDAR
VERSION:2.0
PRODID:-//Energy Storage Association - ECPv5.9.1//NONSGML v1.0//EN
CALSCALE:GREGORIAN
METHOD:PUBLISH
X-WR-CALNAME:Energy Storage Association
X-ORIGINAL-URL:http://energystorageassociationarchive.org
X-WR-CALDESC:Events for Energy Storage Association
BEGIN:VTIMEZONE
TZID:America/New_York
BEGIN:DAYLIGHT
TZOFFSETFROM:-0500
TZOFFSETTO:-0400
TZNAME:EDT
DTSTART:20210314T070000
END:DAYLIGHT
BEGIN:STANDARD
TZOFFSETFROM:-0400
TZOFFSETTO:-0500
TZNAME:EST
DTSTART:20211107T060000
END:STANDARD
END:VTIMEZONE
BEGIN:VEVENT
DTSTART;VALUE=DATE:20210607
DTEND;VALUE=DATE:20210610
DTSTAMP:20260425T063439
CREATED:20210603T175734Z
LAST-MODIFIED:20210624T185519Z
UID:12497-1623024000-1623283199@energystorageassociationarchive.org
SUMMARY:21st Annual Southeast LDC Gas Forum
DESCRIPTION:About the Southeast Forum\n\nWhat: The 21st Annual Southeast Forum is the premier event where 500+ of the Natural Gas Industry’s leaders gather in Atlanta for 3 days of networking\, insights\, & deal-making. \nWho: See who attended in 2019; the current attendee list is coming soon! \nWhy: Got an eye for networking? Networking is at the heart of the Forums. There are multiple opportunities to meet and connect with people through scheduled networking activities and before/after/in-between sessions. \nGot an eye for today’s news? Hear valuable and unique insights from the newsmakers and leaders of the industry. The 2021 agenda is NOW LIVE! \nYOU: You should attend this forum if…\n…you are with a utility. These are your peers!\n…you are an end-user. Meet current & potential new suppliers!\n…you are a marketer. Meet current & potential new suppliers and markets!\n…you are a processor. Meet current & potential markets\, producers\, and pipelines!\n…you are a producer. Meet current & potential markets\, marketers\, and pipelines!\n…you are a vendor. This is where your customers will be! \nStatements of Facts… \n\nShorten your Sales Cycle – conduct months worth of standard sales efforts in just 2 1/2 days\nReach Decision Makers – meet key decision-makers representing each element of the natural gas value chain\nReduce the cost of Business Development – meet dozens of qualified prospects in one place\, at one time\, instead of multiple one-off visits
URL:http://energystorageassociationarchive.org/event/21st-annual-southeast-ldc-gas-forum/
LOCATION:InterContinental Buckhead | ATL\, 3315 Peachtree Road NE\, Atlanta\, GA\, 30326\, United States
END:VEVENT
END:VCALENDAR