BEGIN:VCALENDAR
VERSION:2.0
PRODID:-//Energy Storage Association - ECPv5.9.1//NONSGML v1.0//EN
CALSCALE:GREGORIAN
METHOD:PUBLISH
X-WR-CALNAME:Energy Storage Association
X-ORIGINAL-URL:http://energystorageassociationarchive.org
X-WR-CALDESC:Events for Energy Storage Association
BEGIN:VTIMEZONE
TZID:America/New_York
BEGIN:DAYLIGHT
TZOFFSETFROM:-0500
TZOFFSETTO:-0400
TZNAME:EDT
DTSTART:20210314T070000
END:DAYLIGHT
BEGIN:STANDARD
TZOFFSETFROM:-0400
TZOFFSETTO:-0500
TZNAME:EST
DTSTART:20211107T060000
END:STANDARD
END:VTIMEZONE
BEGIN:VEVENT
DTSTART;VALUE=DATE:20211025
DTEND;VALUE=DATE:20211030
DTSTAMP:20260424T234431
CREATED:20210831T224825Z
LAST-MODIFIED:20210831T224825Z
UID:13406-1635120000-1635551999@energystorageassociationarchive.org
SUMMARY:American Clean Power Week
DESCRIPTION:Join ACP October 25-29\, 2021 as we celebrate the first-ever American Clean Power Week (ACPW)\, an entire week dedicated to celebrating the ways clean energy is building a better future for the U.S. \nACPW is an evolution of the former American Wind Week\, intended to recognize the full spectrum of clean energy technologies. With clean energy technologies’ 50-state footprint\, this year’s theme is the United States of Clean Energy. We’ll highlight how land-based and offshore wind power\, solar power\, energy storage\, and transmission infrastructure deliver increasingly affordable\, reliable\, clean energy to millions of American families and businesses. \n2021 is an exciting year for clean energy\, new 21st-century job creation\, and the fight against climate change. Earlier this year\, the Biden administration proposed the American Jobs Plan\, a roadmap for putting Americans back to work building our country’s critical infrastructure that will support the energy transition. From red states to blue states\, there are opportunities for all Americans in the new clean energy economy.
URL:http://energystorageassociationarchive.org/event/american-clean-power-week/
CATEGORIES:Energy Storage Industry Event
END:VEVENT
END:VCALENDAR