BEGIN:VCALENDAR
VERSION:2.0
PRODID:-//Energy Storage Association - ECPv5.9.1//NONSGML v1.0//EN
CALSCALE:GREGORIAN
METHOD:PUBLISH
X-WR-CALNAME:Energy Storage Association
X-ORIGINAL-URL:http://energystorageassociationarchive.org
X-WR-CALDESC:Events for Energy Storage Association
BEGIN:VTIMEZONE
TZID:America/New_York
BEGIN:DAYLIGHT
TZOFFSETFROM:-0500
TZOFFSETTO:-0400
TZNAME:EDT
DTSTART:20200308T070000
END:DAYLIGHT
BEGIN:STANDARD
TZOFFSETFROM:-0400
TZOFFSETTO:-0500
TZNAME:EST
DTSTART:20201101T060000
END:STANDARD
END:VTIMEZONE
BEGIN:VEVENT
DTSTART;TZID=America/New_York:20201027T080000
DTEND;TZID=America/New_York:20201029T170000
DTSTAMP:20260425T171833
CREATED:20201021T220605Z
LAST-MODIFIED:20201021T220605Z
UID:9583-1603785600-1603990800@energystorageassociationarchive.org
SUMMARY:Asia Clean Energy Summit
DESCRIPTION:Asia Clean Energy Summit (ACES) is the region’s leading event focusing on clean energy technology\, policy and finance supported by leading government agencies\, research institutes and industry in Singapore. Held as part of the Singapore International Energy Week (SIEW)\, ACES provides a common platform for regional thought leaders in both the public and private sector to collaborate on critical issues and opportunities in harnessing clean energy for the future. \n\n\n\nESA CEO Kelly Speakes-Backman will moderate a panel on October 30\, 2020 at 9:15am:\n\nWhat value do energy storage systems bring to the grid? \nEnergy storage systems are increasingly being deployed to solve several key challenges facing global electrical utilities. These include the successful and efficient integration of intermittent energy from renewable sources\, offsetting or deferring transmission and distribution projects to save money\, as well as replacing diesel generators for back-up power. \nThis panel will discuss the value energy storage systems bring to utilities and their customers. \n\nModerator: Kelly Speakes-Backman\, CEO\, Energy Storage Association\nAchal Sondhi\, Asia Pacific Market Director\, Fluence\, Singapore\nMatthew McDonnell\, Director\, Strategen
URL:http://energystorageassociationarchive.org/event/asia-clean-energy-summit/
CATEGORIES:Energy Storage Industry Event,ESA Speaking Engagement
END:VEVENT
END:VCALENDAR