BEGIN:VCALENDAR
VERSION:2.0
PRODID:-//Energy Storage Association - ECPv5.9.1//NONSGML v1.0//EN
CALSCALE:GREGORIAN
METHOD:PUBLISH
X-WR-CALNAME:Energy Storage Association
X-ORIGINAL-URL:http://energystorageassociationarchive.org
X-WR-CALDESC:Events for Energy Storage Association
BEGIN:VTIMEZONE
TZID:America/New_York
BEGIN:DAYLIGHT
TZOFFSETFROM:-0500
TZOFFSETTO:-0400
TZNAME:EDT
DTSTART:20210314T070000
END:DAYLIGHT
BEGIN:STANDARD
TZOFFSETFROM:-0400
TZOFFSETTO:-0500
TZNAME:EST
DTSTART:20211107T060000
END:STANDARD
END:VTIMEZONE
BEGIN:VEVENT
DTSTART;VALUE=DATE:20210505
DTEND;VALUE=DATE:20210508
DTSTAMP:20260425T080255
CREATED:20210427T173429Z
LAST-MODIFIED:20210427T173429Z
UID:11876-1620172800-1620431999@energystorageassociationarchive.org
SUMMARY:BuildingEnergy Boston
DESCRIPTION:Learn\, Influence\, Lead\nBuildingEnergy Boston is a conference designed by and for practitioners in the fields of high-performance building and design\, energy efficiency\, and renewable energy. It brings more than 1\,000 industry leaders and emerging professionals together to learn from and share ideas with each other. Sessions are curated by a volunteer NESEA-Member content committee to ensure that conference sessions are genuinely useful to attendees. \nThe 2021 conference will be held virtually\, Wednesday-Friday\, May 5-7. Wednesday will feature a Methods & Materials Showcase with live product demonstrations\, networking events\, and a keynote presentation. Thursday and Friday will feature accredited conference sessions that offer best practices and lessons learned\, case studies and proven data\, technical how-to’s\, emerging technologies\, and innovative policies and programs. \nIn honor of the inquisitive learner in all of us\, Getting at WHY is the theme of BuildingEnergy Boston 2021. We believe that focusing on WHY will empower building professionals with key insights to successfully approach and navigate challenges in their own work. Conference sessions will share what knowledge/experience/resources practitioners brought to the table and a commitment to getting at WHY they chose a certain path or course of action. Presenters will share their approach to a given challenge\, in addition to what the data show\, what they learned\, and\, our favorite\, what they would never do again.
URL:http://energystorageassociationarchive.org/event/buildingenergy-boston/
CATEGORIES:Energy Storage Industry Event
END:VEVENT
END:VCALENDAR