BEGIN:VCALENDAR
VERSION:2.0
PRODID:-//Energy Storage Association - ECPv5.9.1//NONSGML v1.0//EN
CALSCALE:GREGORIAN
METHOD:PUBLISH
X-WR-CALNAME:Energy Storage Association
X-ORIGINAL-URL:http://energystorageassociationarchive.org
X-WR-CALDESC:Events for Energy Storage Association
BEGIN:VTIMEZONE
TZID:Europe/Berlin
BEGIN:DAYLIGHT
TZOFFSETFROM:+0100
TZOFFSETTO:+0200
TZNAME:CEST
DTSTART:20210328T010000
END:DAYLIGHT
BEGIN:STANDARD
TZOFFSETFROM:+0200
TZOFFSETTO:+0100
TZNAME:CET
DTSTART:20211031T010000
END:STANDARD
END:VTIMEZONE
BEGIN:VEVENT
DTSTART;TZID=Europe/Berlin:20210316T100000
DTEND;TZID=Europe/Berlin:20210317T160000
DTSTAMP:20260425T102112
CREATED:20210316T165229Z
LAST-MODIFIED:20210316T165229Z
UID:11273-1615888800-1615996800@energystorageassociationarchive.org
SUMMARY:BVES – Energy Storage Systems 2021: International Markets 2021
DESCRIPTION:The German Energy Storage Systems Association – BVES – is hosting a conference on energy storage in international markets on Tuesday and Wednesday March 16th/17th. Energy Storage Systems 2021 hopes to give the audience an overview and an update on technologies and trends\, finances\, business models and international markets as well as the regulatory framework in energy law\, standards\, security and politics. \nOn March 17th 3cea’s CEO Paddy Phelan will be discussing The Energy Storage Market in Ireland along with various other speakers discussing the markets in Germany\, Poland\, and Spain. Other talks on March 17th include\, Finance and Bankability – Energy storage as an Asset Class\, and Battery Test and Certification – Update of National and International Standards for Business Applications. \nThe full programme for both days is available here. \nThe tickets for the online conference are limited. The participation fee is EUR 180.00 for both days of Energy Storage Systems 2021. For members of the BVES\, the participation fee is EUR 120.00 for both days. (This also applies to BVES partner organizations such as StoREgio e. V.\, DCSP e. V.\, ITAD e. V.\, LEE NRW e. V.) \nLink for registration and event information is available here.
URL:http://energystorageassociationarchive.org/event/bves-energy-storage-systems-2021-international-markets-2021/
CATEGORIES:Energy Storage Industry Event,ESA Speaking Engagement
END:VEVENT
END:VCALENDAR