BEGIN:VCALENDAR
VERSION:2.0
PRODID:-//Energy Storage Association - ECPv5.9.1//NONSGML v1.0//EN
CALSCALE:GREGORIAN
METHOD:PUBLISH
X-WR-CALNAME:Energy Storage Association
X-ORIGINAL-URL:http://energystorageassociationarchive.org
X-WR-CALDESC:Events for Energy Storage Association
BEGIN:VTIMEZONE
TZID:America/New_York
BEGIN:DAYLIGHT
TZOFFSETFROM:-0500
TZOFFSETTO:-0400
TZNAME:EDT
DTSTART:20200308T070000
END:DAYLIGHT
BEGIN:STANDARD
TZOFFSETFROM:-0400
TZOFFSETTO:-0500
TZNAME:EST
DTSTART:20201101T060000
END:STANDARD
END:VTIMEZONE
BEGIN:VEVENT
DTSTART;TZID=America/New_York:20200730T140000
DTEND;TZID=America/New_York:20200730T150000
DTSTAMP:20260425T223949
CREATED:20200728T000928Z
LAST-MODIFIED:20200728T000928Z
UID:7902-1596117600-1596121200@energystorageassociationarchive.org
SUMMARY:CEO Kelly Speakes-Backman joins SEIA CEO and WRISE to kick off new WRISE Unafraid series
DESCRIPTION:This is the first in a series of conversations to be hosted by E’Lon Cohen Hall and Kristen Graf. The title of the series\, WRISE Unafraid\, is a nod to the song Rise Up by Andra Day and is part of our commitment to continue to work to hold this community accountable to our name and to each other. This new series is a part of our efforts to root out and dismantle racism and white supremacy alongside sexism\, homophobia\, oppression and all of the roots of system failure. We need to face each other with grace and compassion so that with each stumble we don’t fall backward or give up\, but pull each other up\, dust off and rise unafraid. \n\n\n\nKelly Speakes-Backman will join in conversation for this first event in the series. Register here.
URL:http://energystorageassociationarchive.org/event/ceo-kelly-speakes-backman-joins-seia-ceo-and-wrise-to-kick-off-new-wrise-unafraid-series/
CATEGORIES:ESA Speaking Engagement
ATTACH;FMTTYPE=image/png:http://energystorageassociationarchive.org/wp-content/uploads/2020/07/Ed4baNIWsAMJpZq.png
END:VEVENT
END:VCALENDAR