BEGIN:VCALENDAR
VERSION:2.0
PRODID:-//Energy Storage Association - ECPv5.9.1//NONSGML v1.0//EN
CALSCALE:GREGORIAN
METHOD:PUBLISH
X-WR-CALNAME:Energy Storage Association
X-ORIGINAL-URL:http://energystorageassociationarchive.org
X-WR-CALDESC:Events for Energy Storage Association
BEGIN:VTIMEZONE
TZID:America/New_York
BEGIN:DAYLIGHT
TZOFFSETFROM:-0500
TZOFFSETTO:-0400
TZNAME:EDT
DTSTART:20200308T070000
END:DAYLIGHT
BEGIN:STANDARD
TZOFFSETFROM:-0400
TZOFFSETTO:-0500
TZNAME:EST
DTSTART:20201101T060000
END:STANDARD
END:VTIMEZONE
BEGIN:VEVENT
DTSTART;VALUE=DATE:20200826
DTEND;VALUE=DATE:20200829
DTSTAMP:20260425T224122
CREATED:20200817T132813Z
LAST-MODIFIED:20200902T224720Z
UID:8082-1598400000-1598659199@energystorageassociationarchive.org
SUMMARY:ESIE Conference 2020
DESCRIPTION:The 9th annual Energy Storage International Conference and Expo will be held August 26-28\, 2020 at the Etrong International Exhibition and Convention Center in Beijing.  Since its inception in 2012\, ESIE has established itself as one of the leading annual events for energy storage in China. Via pre-recorded remarks\, Kelly Speakes-Backman will speak on “The Road Ahead” during the Global Energy Storage Market Update.
URL:http://energystorageassociationarchive.org/event/ceo-kelly-speakes-backman-to-speak-at-esie-conference-2020/
LOCATION:Beijing Etrong International Exhibition & Convention Center
CATEGORIES:Energy Storage Industry Event,ESA Speaking Engagement
END:VEVENT
END:VCALENDAR