BEGIN:VCALENDAR
VERSION:2.0
PRODID:-//Energy Storage Association - ECPv5.9.1//NONSGML v1.0//EN
CALSCALE:GREGORIAN
METHOD:PUBLISH
X-WR-CALNAME:Energy Storage Association
X-ORIGINAL-URL:http://energystorageassociationarchive.org
X-WR-CALDESC:Events for Energy Storage Association
BEGIN:VTIMEZONE
TZID:America/New_York
BEGIN:DAYLIGHT
TZOFFSETFROM:-0500
TZOFFSETTO:-0400
TZNAME:EDT
DTSTART:20200308T070000
END:DAYLIGHT
BEGIN:STANDARD
TZOFFSETFROM:-0400
TZOFFSETTO:-0500
TZNAME:EST
DTSTART:20201101T060000
END:STANDARD
END:VTIMEZONE
BEGIN:VEVENT
DTSTART;VALUE=DATE:20201028
DTEND;VALUE=DATE:20201030
DTSTAMP:20260425T172125
CREATED:20201021T215341Z
LAST-MODIFIED:20201021T215341Z
UID:9577-1603843200-1604015999@energystorageassociationarchive.org
SUMMARY:DISTRIBUTECH+ Series: Renewables\, Energy Storage and How Utilities are Preparing for a Sustainable Future
DESCRIPTION:The DISTRIBUTECH+ monthly series offers a variety of opportunities to meet the needs of power industry professionals in addition to each of the energy markets we serve including – virtual experiences\, timely content and education sessions\, peer-to-peer networking\, vendor product and service demonstrations and matchmaking assistance between decision-makers and sellers. \nJoin us for Renewables\, Energy Storage and How Utilities are Preparing for a Sustainable Future\, October 28-29. ESA CEO Kelly Speakes-Backman will be delivering an address at 11:00 AM EDT on October 29.
URL:http://energystorageassociationarchive.org/event/distributech-series-renewables-energy-storage-and-how-utilities-are-preparing-for-a-sustainable-future/
CATEGORIES:Energy Storage Industry Event,ESA Speaking Engagement
END:VEVENT
END:VCALENDAR