BEGIN:VCALENDAR
VERSION:2.0
PRODID:-//Energy Storage Association - ECPv5.9.1//NONSGML v1.0//EN
CALSCALE:GREGORIAN
METHOD:PUBLISH
X-WR-CALNAME:Energy Storage Association
X-ORIGINAL-URL:http://energystorageassociationarchive.org
X-WR-CALDESC:Events for Energy Storage Association
BEGIN:VTIMEZONE
TZID:America/New_York
BEGIN:DAYLIGHT
TZOFFSETFROM:-0500
TZOFFSETTO:-0400
TZNAME:EDT
DTSTART:20200308T070000
END:DAYLIGHT
BEGIN:STANDARD
TZOFFSETFROM:-0400
TZOFFSETTO:-0500
TZNAME:EST
DTSTART:20201101T060000
END:STANDARD
END:VTIMEZONE
BEGIN:VEVENT
DTSTART;VALUE=DATE:20200922
DTEND;VALUE=DATE:20200923
DTSTAMP:20260425T210839
CREATED:20200902T161608Z
LAST-MODIFIED:20200918T163019Z
UID:8386-1600732800-1600819199@energystorageassociationarchive.org
SUMMARY:World Energy Storage Day
DESCRIPTION:With a rising focus on the effective integration of renewable energy\, the importance of electric vehicle and reliable\, resilient energy supply\, energy storage is becoming an increasingly important tool in the electricity ecosystem. With Energy Storage rising to the forefront of industry developments\, World Energy Storage Day is celebrated on 22nd September every year by various global industry stakeholders\, policy makers\, think tanks and associations to acknowledge its importance across the globe. \nESA will be speaking on the North America session at 11:00AM EDT.
URL:http://energystorageassociationarchive.org/event/esa-to-speak-at-world-energy-storage-day/
CATEGORIES:ESA Speaking Engagement,Energy Storage Industry Event
END:VEVENT
END:VCALENDAR