BEGIN:VCALENDAR
VERSION:2.0
PRODID:-//Energy Storage Association - ECPv5.9.1//NONSGML v1.0//EN
CALSCALE:GREGORIAN
METHOD:PUBLISH
X-WR-CALNAME:Energy Storage Association
X-ORIGINAL-URL:http://energystorageassociationarchive.org
X-WR-CALDESC:Events for Energy Storage Association
BEGIN:VTIMEZONE
TZID:America/New_York
BEGIN:DAYLIGHT
TZOFFSETFROM:-0500
TZOFFSETTO:-0400
TZNAME:EDT
DTSTART:20200308T070000
END:DAYLIGHT
BEGIN:STANDARD
TZOFFSETFROM:-0400
TZOFFSETTO:-0500
TZNAME:EST
DTSTART:20201101T060000
END:STANDARD
END:VTIMEZONE
BEGIN:VEVENT
DTSTART;TZID=America/New_York:20200723T093000
DTEND;TZID=America/New_York:20200723T163000
DTSTAMP:20260426T002614
CREATED:20200720T183347Z
LAST-MODIFIED:20200720T183347Z
UID:7743-1595496600-1595521800@energystorageassociationarchive.org
SUMMARY:ESA’s Jason Burwen to Speak at FERC Technical Conference on Hybrid Resources
DESCRIPTION:FERC will convene a staff-led technical conference on hybrid resources on Thursday\, July 23\, 2020\, from 9:30 am to 4:30 pm (ET). The conference will be held electronically. Commissioners may attend and participate. This conference will discuss issues related to Hybrid Resources\, which for purposes of the conference\, will be defined as resources consisting of a generation resource and an electric storage resource paired together. Members of the public may register here. \nESA’s Jason Burwen will speak on the panel The Hybrid Resources Landscape. A description of the panel is below: \nThis panel will explore the increasing interest in hybrid resources\, as demonstrated by the number of interconnection requests pending in interconnection queues and the number of hybrid resource developers seeking to participate in the energy\, capacity and ancillary services markets operated by Regional Transmission Organizations and Independent System Operators (RTO/ISOs). This panel will also explore how developers are configuring their projects to facilitate the interconnection and participation of hybrid resources in these markets. In addition\, this panel will examine the factors driving the use of such resources. The panel may include a discussion of the following topics and questions: \n\nWhile this conference uses the term “hybrid resources” to refer to resources consisting of a generation resource and an electric storage resource paired together\, we recognize that these resources can be configured differently\, from the generation resource and energy storage resource being located at the same facility but operating separately (“co-located”) to the generating facility and energy storage facility operating as one “hybrid” resource. How are these two terms used in the industry? What configurations are most common\, and are there new configurations emerging?\nWhat are some of the indicators of increasing interest by developers in hybrid 20200713-3053 FERC PDF (Unofficial) 07/13/2020 Docket No. AD20-9-000 4 resources? Where and in what circumstances does interest in hybrid resources appear to be greater? Approximately what percentage of interconnection requests for resources in interconnection queues are composed of hybrid resources? Has there been an increase in requests by hybrid resource developers to participate in energy\, capacity and ancillary services markets operated by RTOs/ISOs?\nHow have the economics underlying hybrid technologies changed over the last three to five years? What future trends do you anticipate in this regard? Given these anticipated future trends\, please comment on how you anticipate hybrid resources might be configured going forward. How could these changes impact interconnection requests?\nWe understand that increasing numbers of hybrid resources are participating as a single resource in energy\, capacity and ancillary services markets operated by RTOs/ISOs. What are the advantages to the hybrid resource participating as a single resource? What are the disadvantages?\nWhat factors are driving developers’ decisions in how to configure hybrid resources? For example\, what factors do developers consider when deciding to either charge the storage component of the hybrid resource solely from a colocated generation resource or to charge from the grid? In addition\, alternating current coupling and direct current coupling are two technical options for interconnection of hybrid or co-located resources. What factors influence developers to choose one form of coupling over another?\n\n  \nVisit this page and download the PDF for more information.
URL:http://energystorageassociationarchive.org/event/esas-jason-burwen-to-speak-at-ferc-technical-conference-on-hybrid-resources/
CATEGORIES:ESA Speaking Engagement
END:VEVENT
END:VCALENDAR