BEGIN:VCALENDAR
VERSION:2.0
PRODID:-//Energy Storage Association - ECPv5.9.1//NONSGML v1.0//EN
CALSCALE:GREGORIAN
METHOD:PUBLISH
X-WR-CALNAME:Energy Storage Association
X-ORIGINAL-URL:http://energystorageassociationarchive.org
X-WR-CALDESC:Events for Energy Storage Association
BEGIN:VTIMEZONE
TZID:America/New_York
BEGIN:DAYLIGHT
TZOFFSETFROM:-0500
TZOFFSETTO:-0400
TZNAME:EDT
DTSTART:20200308T070000
END:DAYLIGHT
BEGIN:STANDARD
TZOFFSETFROM:-0400
TZOFFSETTO:-0500
TZNAME:EST
DTSTART:20201101T060000
END:STANDARD
END:VTIMEZONE
BEGIN:VEVENT
DTSTART;VALUE=DATE:20200730
DTEND;VALUE=DATE:20200731
DTSTAMP:20260426T002440
CREATED:20200721T125148Z
LAST-MODIFIED:20200721T125209Z
UID:7742-1596067200-1596153599@energystorageassociationarchive.org
SUMMARY:ESA's Kelly Speakes-Backman to Speak at The 2020 Congressional Renewable Energy & Energy Efficiency Expo
DESCRIPTION:The 2020 Congressional Renewable Energy & Energy Efficiency Expo will present the latest in renewable/efficiency technologies from organizations leading the energy revolution. This event will take place online\, on Thursday\, July 30\, from 10:00am-4:30pm ET. \nESA CEO Kelly Speakes-Backman will speak as part of the special marquee panel Advancing Climate Solutions through Environmental Justice.
URL:http://energystorageassociationarchive.org/event/esas-kelly-speakes-backman-to-speak-at-the-2020-congressional-renewable-energy-energy-efficiency-expo/
END:VEVENT
END:VCALENDAR