BEGIN:VCALENDAR
VERSION:2.0
PRODID:-//Energy Storage Association - ECPv5.9.1//NONSGML v1.0//EN
CALSCALE:GREGORIAN
METHOD:PUBLISH
X-WR-CALNAME:Energy Storage Association
X-ORIGINAL-URL:http://energystorageassociationarchive.org
X-WR-CALDESC:Events for Energy Storage Association
BEGIN:VTIMEZONE
TZID:Asia/Manila
BEGIN:STANDARD
TZOFFSETFROM:+0800
TZOFFSETTO:+0800
TZNAME:PST
DTSTART:20210101T000000
END:STANDARD
END:VTIMEZONE
BEGIN:VEVENT
DTSTART;VALUE=DATE:20210414
DTEND;VALUE=DATE:20210417
DTSTAMP:20260425T084116
CREATED:20210316T165720Z
LAST-MODIFIED:20210326T163337Z
UID:11276-1618358400-1618617599@energystorageassociationarchive.org
SUMMARY:ESIE 21: The 10th Energy Storage International Conference and Expo
DESCRIPTION:The 10th annual Energy Storage International Conference and Expo will be held May 14-16\, 2021  at the National Convention Center in Beijing.  Since its inception in 2012\, ESIE has established itself as one of the leading annual event for energy storage in China.  In 2020\, ESIE welcomed over 60 leading energy storage companies to exhibit\, including Sungrow\, BYD\, Soaring\, Narada\, ZTT\, Puneng\, NEC\, ABB\, and many more.  The ESIE 2021 forums featured 11 different tracks with over 120 guest speakers who presented on topics including market and policy trends\, leading technologies\, and innovative applications. \nESA’s interim CEO\, Jason Burwen\, will be speaking at the Global Energy Storage Updates forum. \nRegister here.
URL:http://energystorageassociationarchive.org/event/esie-21-the-10th-energy-storage-international-conference-and-expo/
CATEGORIES:Energy Storage Industry Event,ESA Speaking Engagement
END:VEVENT
END:VCALENDAR