BEGIN:VCALENDAR
VERSION:2.0
PRODID:-//Energy Storage Association - ECPv5.9.1//NONSGML v1.0//EN
CALSCALE:GREGORIAN
METHOD:PUBLISH
X-WR-CALNAME:Energy Storage Association
X-ORIGINAL-URL:http://energystorageassociationarchive.org
X-WR-CALDESC:Events for Energy Storage Association
BEGIN:VTIMEZONE
TZID:America/New_York
BEGIN:DAYLIGHT
TZOFFSETFROM:-0500
TZOFFSETTO:-0400
TZNAME:EDT
DTSTART:20200308T070000
END:DAYLIGHT
BEGIN:STANDARD
TZOFFSETFROM:-0400
TZOFFSETTO:-0500
TZNAME:EST
DTSTART:20201101T060000
END:STANDARD
END:VTIMEZONE
BEGIN:VEVENT
DTSTART;VALUE=DATE:20201007
DTEND;VALUE=DATE:20201008
DTSTAMP:20260425T191152
CREATED:20200924T200541Z
LAST-MODIFIED:20200924T200541Z
UID:8907-1602028800-1602115199@energystorageassociationarchive.org
SUMMARY:Indiana Energy Conference
DESCRIPTION:This year’s Indiana Energy Conference will be a virtual gathering that brings together decision-makers from a broad spectrum of business sectors including utilities\, government\, large volume users of energy\, and academia.   Industry leaders focus on current and future challenges facing the energy market. \nJason Burwen\, ESA Vice President of Policy\, will speak during Session 2: “Where are We Going?” For more information\, click here.
URL:http://energystorageassociationarchive.org/event/indiana-energy-conference/
CATEGORIES:ESA Speaking Engagement
END:VEVENT
END:VCALENDAR