BEGIN:VCALENDAR
VERSION:2.0
PRODID:-//Energy Storage Association - ECPv5.9.1//NONSGML v1.0//EN
CALSCALE:GREGORIAN
METHOD:PUBLISH
X-WR-CALNAME:Energy Storage Association
X-ORIGINAL-URL:http://energystorageassociationarchive.org
X-WR-CALDESC:Events for Energy Storage Association
BEGIN:VTIMEZONE
TZID:America/New_York
BEGIN:DAYLIGHT
TZOFFSETFROM:-0500
TZOFFSETTO:-0400
TZNAME:EDT
DTSTART:20200308T070000
END:DAYLIGHT
BEGIN:STANDARD
TZOFFSETFROM:-0400
TZOFFSETTO:-0500
TZNAME:EST
DTSTART:20201101T060000
END:STANDARD
END:VTIMEZONE
BEGIN:VEVENT
DTSTART;VALUE=DATE:20201116
DTEND;VALUE=DATE:20201120
DTSTAMP:20260425T171858
CREATED:20201106T220313Z
LAST-MODIFIED:20201106T220313Z
UID:9841-1605484800-1605830399@energystorageassociationarchive.org
SUMMARY:K&L Gates Energy Storage Conference
DESCRIPTION:This Virtual Edition of the 4th Annual Energy Conference will be held over the course of four days from November 16th to November 19th. Attendees will have the opportunity to virtually engage in intriguing discussions surrounding the energy storage industry. \nThe conference will begin with an opening keynote from Representative Mike Doyle (PA-18) followed by a series of panels led by energy storage professionals who will discuss policy and regulatory updates\, lessons learned in storage\, battery storage in the UK and Ireland\, trends and developments in Australia\, and insurance products and their role in financing of energy storage products. ESA VP of Policy Jason Burwen will speak on the Policy and Regulatory panel on Monday\, November 16. \nFor more information and to register\, click here.
URL:http://energystorageassociationarchive.org/event/kl-gates-energy-storage-conference/
CATEGORIES:ESA Speaking Engagement
END:VEVENT
END:VCALENDAR