BEGIN:VCALENDAR
VERSION:2.0
PRODID:-//Energy Storage Association - ECPv5.9.1//NONSGML v1.0//EN
CALSCALE:GREGORIAN
METHOD:PUBLISH
X-WR-CALNAME:Energy Storage Association
X-ORIGINAL-URL:http://energystorageassociationarchive.org
X-WR-CALDESC:Events for Energy Storage Association
BEGIN:VTIMEZONE
TZID:America/New_York
BEGIN:DAYLIGHT
TZOFFSETFROM:-0500
TZOFFSETTO:-0400
TZNAME:EDT
DTSTART:20200308T070000
END:DAYLIGHT
BEGIN:STANDARD
TZOFFSETFROM:-0400
TZOFFSETTO:-0500
TZNAME:EST
DTSTART:20201101T060000
END:STANDARD
END:VTIMEZONE
BEGIN:VEVENT
DTSTART;VALUE=DATE:20201012
DTEND;VALUE=DATE:20201014
DTSTAMP:20260425T191259
CREATED:20200929T212824Z
LAST-MODIFIED:20201006T174825Z
UID:9125-1602460800-1602633599@energystorageassociationarchive.org
SUMMARY:MnSEIA Gateway to Solar Conference
DESCRIPTION:The Minnesota Solar Energy Industries Association (MnSEIA) is excited to announce the 7th annual MnSEIA Gateway to Solar Conference\, taking place virtually October 12-13th. \nThe Gateway Conference is a two-day working event that brings together solar practitioners from across the country. Every year\, installers\, financiers\, engineers\, developers\, distributors\, manufacturers\, non-profits\, job trainers\, trade unions\, utilities\, and government agencies gather to connect\, make business deals\, and learn about the future of Minnesota solar. \nESA’s VP of Policy\, Jason Burwen\, will be speaking during the panel Starting the Storage Boom in Minnesota: \nStarting the Storage Boom in Minnesota\nOctober 13\, 10:15 AM – 11:15 AM CT\nModerator: Rao Konidena\, Rakon Energy\nPanelists:  \n\nJenise Granvold\, Sonnen\nAndrew Larson\, Werner Electric\nJason Burwen\, U.S. Energy Storage Association (ESA)\nJing Yu\, Fortress Power
URL:http://energystorageassociationarchive.org/event/mnseia-gateway-to-solar-conference/
CATEGORIES:Energy Storage Industry Event,ESA Speaking Engagement
END:VEVENT
END:VCALENDAR