BEGIN:VCALENDAR
VERSION:2.0
PRODID:-//Energy Storage Association - ECPv5.9.1//NONSGML v1.0//EN
CALSCALE:GREGORIAN
METHOD:PUBLISH
X-WR-CALNAME:Energy Storage Association
X-ORIGINAL-URL:http://energystorageassociationarchive.org
X-WR-CALDESC:Events for Energy Storage Association
BEGIN:VTIMEZONE
TZID:America/New_York
BEGIN:DAYLIGHT
TZOFFSETFROM:-0500
TZOFFSETTO:-0400
TZNAME:EDT
DTSTART:20210314T070000
END:DAYLIGHT
BEGIN:STANDARD
TZOFFSETFROM:-0400
TZOFFSETTO:-0500
TZNAME:EST
DTSTART:20211107T060000
END:STANDARD
END:VTIMEZONE
BEGIN:VEVENT
DTSTART;TZID=America/New_York:20210208T080000
DTEND;TZID=America/New_York:20210211T170000
DTSTAMP:20260425T210600
CREATED:20210223T153455Z
LAST-MODIFIED:20210223T153455Z
UID:11066-1612771200-1613062800@energystorageassociationarchive.org
SUMMARY:NAATBATT International 2021
DESCRIPTION:THE FUTURE OF ADVANCED BATTERY MANUFACTURING IN NORTH AMERICA\n\n\n\n\n\nAdvanced batteries will power the new technologies of the 21st Century. NAATBatt 2021 will examine the evolving markets for advanced batteries\, new advances in battery technology\, and the prospects for developing a robust North American supply chain. At NAATBatt 2021 attendees will meet the leading companies in North America working in advanced battery technology and hear about their efforts to make North America a center of advanced battery technology and manufacturing.
URL:http://energystorageassociationarchive.org/event/naatbatt-international-2021-2/
CATEGORIES:Energy Storage Industry Event
END:VEVENT
END:VCALENDAR