BEGIN:VCALENDAR
VERSION:2.0
PRODID:-//Energy Storage Association - ECPv5.9.1//NONSGML v1.0//EN
CALSCALE:GREGORIAN
METHOD:PUBLISH
X-WR-CALNAME:Energy Storage Association
X-ORIGINAL-URL:http://energystorageassociationarchive.org
X-WR-CALDESC:Events for Energy Storage Association
BEGIN:VTIMEZONE
TZID:America/New_York
BEGIN:DAYLIGHT
TZOFFSETFROM:-0500
TZOFFSETTO:-0400
TZNAME:EDT
DTSTART:20210314T070000
END:DAYLIGHT
BEGIN:STANDARD
TZOFFSETFROM:-0400
TZOFFSETTO:-0500
TZNAME:EST
DTSTART:20211107T060000
END:STANDARD
END:VTIMEZONE
BEGIN:VEVENT
DTSTART;TZID=America/New_York:20211013T080000
DTEND;TZID=America/New_York:20211015T170000
DTSTAMP:20260424T233233
CREATED:20210831T224616Z
LAST-MODIFIED:20210831T224616Z
UID:13403-1634112000-1634317200@energystorageassociationarchive.org
SUMMARY:Offshore WINDPOWER Conference & Exhibition
DESCRIPTION:Offshore wind is America’s next major energy source.\n\n\nWind represents a generational opportunity to create jobs and bolster the economy.\n\n\n\n\n\n\nOffshore wind is an abundant clean energy solution for large population centers looking to source more of their power from clean sources\, and falling costs make it increasingly economical. \nTwo million acres of federal waters in the New York Bight\, California\, North Carolina and South Carolina could be auctioned for commercial leases in 2021\, and areas in the Gulf of Maine and in California could be auctioned in 2022. This activity could generate over $1.5 billion in U.S. Treasury revenue. \nOffshore wind is a once-in-a-generation opportunity and its momentum forward continues leading into ACP’s Offshore WINDPOWER Conference & Exhibition this fall. The event has cultivated a dedicated and thriving global community of top developers and experts. As more steel goes in the water\, this event will only continue to grow in value and scope. \nESA members will receive a discounted rate for this conference. Check back soon for more information! \nDid you know?\n\nPresident Biden’s goal of 30 GW of Offshore Wind deployed by 2030 will trigger more than $12 billion per year in capital investment in projects on both U.S. coasts.\nOffshore wind development could attract $57 billion of investment into the U.S. economy by 2030.\nOffshore wind could create 83\,000 new well-paying jobs by 2030.\nThere are more than 27\,000 megawatts (MW) of offshore wind potential under development on the East Coast\, and there is room for further opportunity.\nStates have established more than 29\,000 MW of offshore wind procurement targets to date.\nDevelopers plan to bring 9\,100 MW of offshore wind online by 2026 by developing 13 offshore wind projects.
URL:http://energystorageassociationarchive.org/event/offshore-windpower-conference-exhibition/
LOCATION:Omni Boston Hotel at the Seaport\, 450 Summer Street\, Boston\, MA\, 02210\, United States
END:VEVENT
END:VCALENDAR