BEGIN:VCALENDAR
VERSION:2.0
PRODID:-//Energy Storage Association - ECPv5.9.1//NONSGML v1.0//EN
CALSCALE:GREGORIAN
METHOD:PUBLISH
X-WR-CALNAME:Energy Storage Association
X-ORIGINAL-URL:http://energystorageassociationarchive.org
X-WR-CALDESC:Events for Energy Storage Association
BEGIN:VTIMEZONE
TZID:America/New_York
BEGIN:DAYLIGHT
TZOFFSETFROM:-0500
TZOFFSETTO:-0400
TZNAME:EDT
DTSTART:20210314T070000
END:DAYLIGHT
BEGIN:STANDARD
TZOFFSETFROM:-0400
TZOFFSETTO:-0500
TZNAME:EST
DTSTART:20211107T060000
END:STANDARD
END:VTIMEZONE
BEGIN:VEVENT
DTSTART;TZID=America/New_York:20210311T140000
DTEND;TZID=America/New_York:20210311T150000
DTSTAMP:20260425T102825
CREATED:20210303T000907Z
LAST-MODIFIED:20210303T001051Z
UID:11139-1615471200-1615474800@energystorageassociationarchive.org
SUMMARY:Path to Clean Energy Presents: Pairing Batteries & Hydropower: Clean Energy’s Untapped Solution
DESCRIPTION:Join us on March 11th at 2:00 pm EDT for the National Hydropower Association’s Path to Clean Energy Virtual Event\, “Pairing Batteries & Hydropower: Clean Energy’s Untapped Solution\,” hosted by the National Hydropower Association in partnership with Energy Storage Association. \nAt this virtual event\, panelists will explore the value streams of collocating batteries and hydropower. Pairing these technologies together has the potential enhance grid reliability services\, environment performance\, and O&M costs. Panelists will also discuss new market services that could be established\, as well as examine the findings of a current project that has successfully paired hydropower and batteries together.   \nEnergy storage technologies are poised to form the foundation of tomorrow’s carbon-free electricity. Storage technologies like batteries and thermal are growing exponentially year-over-year\, while pumped storage hydropower represents 93 percent of utility-scale storage in America. Separately\, these technologies are helping to integrate variable renewables like wind and solar onto the gird\, and accelerating the nation’s efforts to decarbonize.  \nPanelists\nModerator: Malcolm Woolf\, President & CEO\, National Hydropower Association \nPanel 1: \n\nMarc Chupka Vice President\, Research & Programs\, Energy Storage Association\nDr. Thomas Mosier is the Energy Systems Group Lead\, Idaho National Laboratory\n\nPanel 2: \n\nAsa Hopkins\, Vice President\, Synapse Energy Economics\nJens Paeutz\, Marketing Director\, ANDRITZ HYDRO Corp.\nDarron Scott\, President &CEO\, Kodiak Electric Association\n\nRegister here.
URL:http://energystorageassociationarchive.org/event/path-to-clean-energy-presents-pairing-batteries-hydropower-clean-energys-untapped-solution/
CATEGORIES:ESA Speaking Engagement
END:VEVENT
END:VCALENDAR