BEGIN:VCALENDAR
VERSION:2.0
PRODID:-//Energy Storage Association - ECPv5.9.1//NONSGML v1.0//EN
CALSCALE:GREGORIAN
METHOD:PUBLISH
X-WR-CALNAME:Energy Storage Association
X-ORIGINAL-URL:http://energystorageassociationarchive.org
X-WR-CALDESC:Events for Energy Storage Association
BEGIN:VTIMEZONE
TZID:America/New_York
BEGIN:DAYLIGHT
TZOFFSETFROM:-0500
TZOFFSETTO:-0400
TZNAME:EDT
DTSTART:20200308T070000
END:DAYLIGHT
BEGIN:STANDARD
TZOFFSETFROM:-0400
TZOFFSETTO:-0500
TZNAME:EST
DTSTART:20201101T060000
END:STANDARD
END:VTIMEZONE
BEGIN:VEVENT
DTSTART;VALUE=DATE:20201118
DTEND;VALUE=DATE:20201119
DTSTAMP:20260425T171000
CREATED:20200923T161256Z
LAST-MODIFIED:20200923T175605Z
UID:8838-1605657600-1605743999@energystorageassociationarchive.org
SUMMARY:REV2020: Power to Renew
DESCRIPTION:Organized by the nonprofit trade association\, Renewable Energy Vermont\, REV2020: Power to Renew is an annual forum that brings together business leaders\, system operators\, architects\, builders\, manufacturers\, engineers\, scientists\, policy makers\, and regulators. This year the event is fully virtual and consists of three sessions: October 21: Connectivity\, November 18: Resilience and December 8: Moving Forward. \nESA CEO Kelly Speakes-Backman will provide keynote remarks for the November 18 session on Resilience.
URL:http://energystorageassociationarchive.org/event/rev2020-power-to-renew/
CATEGORIES:ESA Speaking Engagement
END:VEVENT
END:VCALENDAR