BEGIN:VCALENDAR
VERSION:2.0
PRODID:-//Energy Storage Association - ECPv5.9.1//NONSGML v1.0//EN
CALSCALE:GREGORIAN
METHOD:PUBLISH
X-WR-CALNAME:Energy Storage Association
X-ORIGINAL-URL:http://energystorageassociationarchive.org
X-WR-CALDESC:Events for Energy Storage Association
BEGIN:VTIMEZONE
TZID:America/New_York
BEGIN:DAYLIGHT
TZOFFSETFROM:-0500
TZOFFSETTO:-0400
TZNAME:EDT
DTSTART:20210314T070000
END:DAYLIGHT
BEGIN:STANDARD
TZOFFSETFROM:-0400
TZOFFSETTO:-0500
TZNAME:EST
DTSTART:20211107T060000
END:STANDARD
END:VTIMEZONE
BEGIN:VEVENT
DTSTART;TZID=America/New_York:20211103T140000
DTEND;TZID=America/New_York:20211103T150000
DTSTAMP:20260424T200918
CREATED:20211020T232425Z
LAST-MODIFIED:20211020T232425Z
UID:13764-1635948000-1635951600@energystorageassociationarchive.org
SUMMARY:Safer Together ACP Safety Campaign Networking Hour
DESCRIPTION:Join this networking hour to recap the 2021 ACP Safety Campaign. We will summarize the key themes from the campaign\, share the safety campaign survey results\, and explore future networking opportunities. Learn more and register to attend here.
URL:http://energystorageassociationarchive.org/event/safer-together-acp-safety-campaign-networking-hour/
CATEGORIES:ESA Speaking Engagement,Energy Storage Industry Event
END:VEVENT
END:VCALENDAR