BEGIN:VCALENDAR
VERSION:2.0
PRODID:-//Energy Storage Association - ECPv5.9.1//NONSGML v1.0//EN
CALSCALE:GREGORIAN
METHOD:PUBLISH
X-WR-CALNAME:Energy Storage Association
X-ORIGINAL-URL:http://energystorageassociationarchive.org
X-WR-CALDESC:Events for Energy Storage Association
BEGIN:VTIMEZONE
TZID:America/New_York
BEGIN:DAYLIGHT
TZOFFSETFROM:-0500
TZOFFSETTO:-0400
TZNAME:EDT
DTSTART:20200308T070000
END:DAYLIGHT
BEGIN:STANDARD
TZOFFSETFROM:-0400
TZOFFSETTO:-0500
TZNAME:EST
DTSTART:20201101T060000
END:STANDARD
END:VTIMEZONE
BEGIN:VEVENT
DTSTART;TZID=America/New_York:20201026T120000
DTEND;TZID=America/New_York:20201026T133000
DTSTAMP:20260425T172119
CREATED:20201021T220040Z
LAST-MODIFIED:20201021T220040Z
UID:9579-1603713600-1603719000@energystorageassociationarchive.org
SUMMARY:The Future of Energy: Virtual Conference 2020
DESCRIPTION:Join us for an engaging conversation about innovations in energy storage technology and policy that are shaping The Future of Energy in Connecticut\, the Northeast\, and beyond. This session will feature insights from leaders in the energy industry who are helping to drive this technology transformation\, including ESA CEO Kelly Speakes-Backman. Learn more.
URL:http://energystorageassociationarchive.org/event/the-future-of-energy-virtual-conference-2020/
CATEGORIES:Energy Storage Industry Event,ESA Speaking Engagement
END:VEVENT
END:VCALENDAR