BEGIN:VCALENDAR
VERSION:2.0
PRODID:-//Energy Storage Association - ECPv5.9.1//NONSGML v1.0//EN
CALSCALE:GREGORIAN
METHOD:PUBLISH
X-WR-CALNAME:Energy Storage Association
X-ORIGINAL-URL:http://energystorageassociationarchive.org
X-WR-CALDESC:Events for Energy Storage Association
BEGIN:VTIMEZONE
TZID:America/New_York
BEGIN:DAYLIGHT
TZOFFSETFROM:-0500
TZOFFSETTO:-0400
TZNAME:EDT
DTSTART:20210314T070000
END:DAYLIGHT
BEGIN:STANDARD
TZOFFSETFROM:-0400
TZOFFSETTO:-0500
TZNAME:EST
DTSTART:20211107T060000
END:STANDARD
END:VTIMEZONE
BEGIN:VEVENT
DTSTART;VALUE=DATE:20211013
DTEND;VALUE=DATE:20211016
DTSTAMP:20260424T215011
CREATED:20210921T023958Z
LAST-MODIFIED:20210921T023958Z
UID:13563-1634083200-1634342399@energystorageassociationarchive.org
SUMMARY:The National Association of State Energy Officials (NASEO) 2021 Annual Meeting
DESCRIPTION:The National Association of State Energy Officials (NASEO ) 2021 Annual Meeting will take place in-person on October 13-15\, 2021 in Portland\, Maine. This year\, NASEO focus on the theme of “America’s Infrastructure: Deploying Energy Innovations for Economic Growth and Climate Action.” State Energy Offices and their private sector partners are poised for action in deploying innovative clean energy solutions across America’s infrastructure – Grid\, Buildings\, Transportation\, Manufacturing\, Agriculture. In partnership with local communities\, businesses\, and investors\, states are targeting workforce development to open opportunities for higher-paying\, skilled energy jobs\, expanding financing and investment programs to meet the needs of underserved communities\, and supporting businesses in accelerating high-impact decarbonization initiatives in every sector of the economy. \nESA’s Interim CEO Jason Burwen will be a panelist during the breakout session Working Together is Better: Advancing Energy Storage Policy\, Regulation\, and Technology through State and Federal Partnerships on Wednesday\, October 13th\, 2021 at 10:30 am. For more information and to register\, click here.
URL:http://energystorageassociationarchive.org/event/the-national-association-of-state-energy-officials-naseo-2021-annual-meeting/
LOCATION:Westin Portland Harborview
CATEGORIES:ESA Speaking Engagement
END:VEVENT
END:VCALENDAR