BEGIN:VCALENDAR
VERSION:2.0
PRODID:-//Energy Storage Association - ECPv5.9.1//NONSGML v1.0//EN
CALSCALE:GREGORIAN
METHOD:PUBLISH
X-WR-CALNAME:Energy Storage Association
X-ORIGINAL-URL:http://energystorageassociationarchive.org
X-WR-CALDESC:Events for Energy Storage Association
BEGIN:VTIMEZONE
TZID:America/New_York
BEGIN:DAYLIGHT
TZOFFSETFROM:-0500
TZOFFSETTO:-0400
TZNAME:EDT
DTSTART:20180311T070000
END:DAYLIGHT
BEGIN:STANDARD
TZOFFSETFROM:-0400
TZOFFSETTO:-0500
TZNAME:EST
DTSTART:20181104T060000
END:STANDARD
END:VTIMEZONE
BEGIN:VEVENT
DTSTART;TZID=America/New_York:20180124T080000
DTEND;TZID=America/New_York:20180124T170000
DTSTAMP:20260421T045706
CREATED:20190829T190456Z
LAST-MODIFIED:20190829T190456Z
UID:3000-1516780800-1516813200@energystorageassociationarchive.org
SUMMARY:U.S. Energy Storage Monitor: 4th Quarter Summary
DESCRIPTION:A recording of this webinar is available for public viewing (below) \nDelivered quarterly\, the U.S. Energy Storage Monitor provides the industry’s only comprehensive research on energy storage markets\, deployments\, policies\, regulations and financing in the U.S. These in-depth reports provide energy industry professionals\, policymakers\, government agencies and financiers with consistent\, actionable insight into the burgeoning U.S. energy storage market.
URL:http://energystorageassociationarchive.org/event/u-s-energy-storage-monitor-4th-quarter-summary-2/
CATEGORIES:Webinar
END:VEVENT
END:VCALENDAR