BEGIN:VCALENDAR
VERSION:2.0
PRODID:-//Energy Storage Association - ECPv5.9.1//NONSGML v1.0//EN
CALSCALE:GREGORIAN
METHOD:PUBLISH
X-WR-CALNAME:Energy Storage Association
X-ORIGINAL-URL:http://energystorageassociationarchive.org
X-WR-CALDESC:Events for Energy Storage Association
BEGIN:VTIMEZONE
TZID:America/New_York
BEGIN:DAYLIGHT
TZOFFSETFROM:-0500
TZOFFSETTO:-0400
TZNAME:EDT
DTSTART:20200308T070000
END:DAYLIGHT
BEGIN:STANDARD
TZOFFSETFROM:-0400
TZOFFSETTO:-0500
TZNAME:EST
DTSTART:20201101T060000
END:STANDARD
END:VTIMEZONE
BEGIN:VEVENT
DTSTART;TZID=America/New_York:20200722T090000
DTEND;TZID=America/New_York:20200722T100000
DTSTAMP:20260426T002931
CREATED:20200728T222453Z
LAST-MODIFIED:20200728T222453Z
UID:7917-1595408400-1595412000@energystorageassociationarchive.org
SUMMARY:Vice President Jason Burwen to Present Energy Storage Policy Workshop
DESCRIPTION:The Clean Energy Legislative Academy is for state legislators working to make a difference on energy policy in their state. ESA’s Jason Burwen will be presenting the Energy Storage Policy Workshop. \n\n\n\nAt the Clean Energy Legislative Academy\, legislators will: \n\n\n\n\nLearn about energy policy related to trending issues across the nation as well as state specific strategies. \n\n\n\n\nIdentify clean energy policy gaps in their states \n\n\n\n\nDiscuss policy ideas with energy experts and experienced policy advisors \n\n\n\n\nDevelop state specific clean energy strategies and policies \n\n\n\n\nUtilize various energy policy tools relevant to attendees and their stat \n\n\n\n\n\n\n\n\n\n\n\nDay 2\, Policy Workshop 1\, Part I\nPart one of each policy workshop will be designed to provide legislators an overview of the policy area they chose and will include discussion of current markets\, emerging technologies\, and barriers to consumer and/or utility adoption. Upon registration\, legislators will sign up for three out of five policy workshops. During the Academy\, legislators will be pre-assigned to separate Zoom rooms corresponding to their selected policy topics. \nFaculty: Jason Burwen\, Vice President\, Policy\, Energy Storage Association\, Nitzan Goldberger\, Director of Policy and Business Development\, Borrego Solar\, and Karl Rábago\, Rábago Energy\, LLC \nThe energy storage workshop will focus on policies to promote greater market penetration of energy storage technologies and will provide an overview of the various value streams that should be considered when developing energy storage policies. The workshop will also include a discussion of costs and benefits to the energy system and market drivers for utility-scale and customer-sited energy storage.
URL:http://energystorageassociationarchive.org/event/vice-president-jason-burwen-to-present-energy-storage-policy-workshop/
CATEGORIES:ESA Speaking Engagement
END:VEVENT
END:VCALENDAR