BEGIN:VCALENDAR
VERSION:2.0
PRODID:-//Energy Storage Association - ECPv5.9.1//NONSGML v1.0//EN
CALSCALE:GREGORIAN
METHOD:PUBLISH
X-WR-CALNAME:Energy Storage Association
X-ORIGINAL-URL:http://energystorageassociationarchive.org
X-WR-CALDESC:Events for Energy Storage Association
BEGIN:VTIMEZONE
TZID:America/New_York
BEGIN:DAYLIGHT
TZOFFSETFROM:-0500
TZOFFSETTO:-0400
TZNAME:EDT
DTSTART:20200308T070000
END:DAYLIGHT
BEGIN:STANDARD
TZOFFSETFROM:-0400
TZOFFSETTO:-0500
TZNAME:EST
DTSTART:20201101T060000
END:STANDARD
END:VTIMEZONE
BEGIN:VEVENT
DTSTART;TZID=America/New_York:20200930T140000
DTEND;TZID=America/New_York:20200930T150000
DTSTAMP:20260425T191521
CREATED:20200902T165337Z
LAST-MODIFIED:20200902T214933Z
UID:8402-1601474400-1601478000@energystorageassociationarchive.org
SUMMARY:Panel: The Growth of Wind\, Solar and Storage Energy
DESCRIPTION:ESA’s Vice President of Policy\, Jason Burwen\, will join a panel The Growth of Wind Solar\, and Storage Energy during SPP’s Government Affairs Day. Click here for more information.
URL:http://energystorageassociationarchive.org/event/vp-jason-burwen-to-speak-on-panel-the-growth-of-wind-solar-and-storage-energy/
CATEGORIES:ESA Speaking Engagement
END:VEVENT
END:VCALENDAR